BEGIN:VCALENDAR
VERSION:2.0
PRODID:-//I.P.A. Navarra - ECPv6.15.20//NONSGML v1.0//EN
CALSCALE:GREGORIAN
METHOD:PUBLISH
X-WR-CALNAME:I.P.A. Navarra
X-ORIGINAL-URL:https://navarra.ipa-spain.org
X-WR-CALDESC:Eventos para I.P.A. Navarra
REFRESH-INTERVAL;VALUE=DURATION:PT1H
X-Robots-Tag:noindex
X-PUBLISHED-TTL:PT1H
BEGIN:VTIMEZONE
TZID:UTC
BEGIN:STANDARD
TZOFFSETFROM:+0000
TZOFFSETTO:+0000
TZNAME:UTC
DTSTART:20250101T000000
END:STANDARD
END:VTIMEZONE
BEGIN:VEVENT
DTSTART;VALUE=DATE:20260211
DTEND;VALUE=DATE:20260212
DTSTAMP:20260420T194319
CREATED:20260124T070016Z
LAST-MODIFIED:20260124T070016Z
UID:394042-1770768000-1770854399@navarra.ipa-spain.org
SUMMARY:Circular desde Ganuza\, pasando por el ojo de San Prudencio.
DESCRIPTION:
URL:https://navarra.ipa-spain.org/event/circular-desde-ganuza-pasando-por-el-ojo-de-san-prudencio/
CATEGORIES:Salidas Montaña
END:VEVENT
BEGIN:VEVENT
DTSTART;VALUE=DATE:20260218
DTEND;VALUE=DATE:20260219
DTSTAMP:20260420T194319
CREATED:20260122T175605Z
LAST-MODIFIED:20260122T185158Z
UID:393990-1771372800-1771459199@navarra.ipa-spain.org
SUMMARY:Salida BTT Bardenas Reales
DESCRIPTION:Salida desde el propio acuartelamiento de Bardenas. Se hará un ruta circular a mano del socio “Anso”\, apasionado conocedor de terreno
URL:https://navarra.ipa-spain.org/event/salida-btt-bardenas-reales/
LOCATION:Acuartelamiento Bardenas Reales\, Carretera del Parque Natural\, km. 6\, Arguedas\, Navarra\, 31513\, Spain
CATEGORIES:Salidas BTT
END:VEVENT
BEGIN:VEVENT
DTSTART;VALUE=DATE:20260225
DTEND;VALUE=DATE:20260226
DTSTAMP:20260420T194319
CREATED:20260124T070519Z
LAST-MODIFIED:20260124T070519Z
UID:394044-1771977600-1772063999@navarra.ipa-spain.org
SUMMARY:Cañón río Ubagua-barranco de Arbiotz- Trinidad de Irurgoyen- Zurlotz.
DESCRIPTION:
URL:https://navarra.ipa-spain.org/event/canon-rio-ubagua-barranco-de-arbiotz-trinidad-de-irurgoyen-zurlotz/
CATEGORIES:Salidas Montaña
END:VEVENT
END:VCALENDAR