BEGIN:VCALENDAR
VERSION:2.0
PRODID:-//I.P.A. Navarra - ECPv6.15.20//NONSGML v1.0//EN
CALSCALE:GREGORIAN
METHOD:PUBLISH
X-WR-CALNAME:I.P.A. Navarra
X-ORIGINAL-URL:https://navarra.ipa-spain.org
X-WR-CALDESC:Eventos para I.P.A. Navarra
REFRESH-INTERVAL;VALUE=DURATION:PT1H
X-Robots-Tag:noindex
X-PUBLISHED-TTL:PT1H
BEGIN:VTIMEZONE
TZID:UTC
BEGIN:STANDARD
TZOFFSETFROM:+0000
TZOFFSETTO:+0000
TZNAME:UTC
DTSTART:20250101T000000
END:STANDARD
END:VTIMEZONE
BEGIN:VEVENT
DTSTART;VALUE=DATE:20260819
DTEND;VALUE=DATE:20260820
DTSTAMP:20260420T230756
CREATED:20260122T182943Z
LAST-MODIFIED:20260122T183145Z
UID:394009-1787097600-1787183999@navarra.ipa-spain.org
SUMMARY:Salida BTT Lumbier
DESCRIPTION:Ruta de las foces\, de unos 45 km y con salida desde la localidad de Lumbier.
URL:https://navarra.ipa-spain.org/event/salida-btt-lumbier/
LOCATION:Lumbier\, Lumbier\, Navarra\, Spain
CATEGORIES:Salidas BTT
END:VEVENT
BEGIN:VEVENT
DTSTART;VALUE=DATE:20260909
DTEND;VALUE=DATE:20260910
DTSTAMP:20260420T230756
CREATED:20260124T071343Z
LAST-MODIFIED:20260124T071343Z
UID:394062-1788912000-1788998399@navarra.ipa-spain.org
SUMMARY:Elke y Pausarán desde Lakabe
DESCRIPTION:
URL:https://navarra.ipa-spain.org/event/elke-y-pausaran-desde-lakabe/
CATEGORIES:Salidas Montaña
END:VEVENT
BEGIN:VEVENT
DTSTART;VALUE=DATE:20260916
DTEND;VALUE=DATE:20260917
DTSTAMP:20260420T230756
CREATED:20260122T183436Z
LAST-MODIFIED:20260122T183436Z
UID:394013-1789516800-1789603199@navarra.ipa-spain.org
SUMMARY:Salida BTT Izal
DESCRIPTION:Ruta de unos 40 km con bastante exigencia de ruta por el desnivel de la zona\, contando con el gran anfitrión URRITA.
URL:https://navarra.ipa-spain.org/event/salida-btt-izal/
LOCATION:Izal\, Izal\, Navarra\, 31451\, Spain
CATEGORIES:Salidas BTT
END:VEVENT
BEGIN:VEVENT
DTSTART;VALUE=DATE:20260923
DTEND;VALUE=DATE:20260924
DTSTAMP:20260420T230756
CREATED:20260124T071424Z
LAST-MODIFIED:20260124T071424Z
UID:394064-1790121600-1790207999@navarra.ipa-spain.org
SUMMARY:Senda de los cazadores-Faja de las flores
DESCRIPTION:
URL:https://navarra.ipa-spain.org/event/senda-de-los-cazadores-faja-de-las-flores/
CATEGORIES:Salidas Montaña
END:VEVENT
BEGIN:VEVENT
DTSTART;VALUE=DATE:20261014
DTEND;VALUE=DATE:20261015
DTSTAMP:20260420T230756
CREATED:20260124T071508Z
LAST-MODIFIED:20260124T071508Z
UID:394066-1791936000-1792022399@navarra.ipa-spain.org
SUMMARY:Monte Perdido
DESCRIPTION:
URL:https://navarra.ipa-spain.org/event/monte-perdido/
CATEGORIES:Salidas Montaña
END:VEVENT
BEGIN:VEVENT
DTSTART;VALUE=DATE:20261021
DTEND;VALUE=DATE:20261022
DTSTAMP:20260420T230756
CREATED:20260122T183728Z
LAST-MODIFIED:20260122T184446Z
UID:394016-1792540800-1792627199@navarra.ipa-spain.org
SUMMARY:Salida BTT Falces
DESCRIPTION:Salida organizada por el amigo GARBI\, el cual nos hará disfrutar de una buena ruta y un buen lugar de la zona donde comer. Estimación de ruta unos 40km
URL:https://navarra.ipa-spain.org/event/salida-btt-falces/
LOCATION:Falces\, Falces\, Falces\, 31370\, Spain
CATEGORIES:Salidas BTT
END:VEVENT
BEGIN:VEVENT
DTSTART;VALUE=DATE:20261028
DTEND;VALUE=DATE:20261029
DTSTAMP:20260420T230756
CREATED:20260124T071617Z
LAST-MODIFIED:20260124T071617Z
UID:394068-1793145600-1793231999@navarra.ipa-spain.org
SUMMARY:Cordal del Joar
DESCRIPTION:
URL:https://navarra.ipa-spain.org/event/cordal-del-joar/
CATEGORIES:Salidas Montaña
END:VEVENT
BEGIN:VEVENT
DTSTART;VALUE=DATE:20261111
DTEND;VALUE=DATE:20261112
DTSTAMP:20260420T230756
CREATED:20260124T071657Z
LAST-MODIFIED:20260124T071657Z
UID:394070-1794355200-1794441599@navarra.ipa-spain.org
SUMMARY:Tiratun desde Lizoain
DESCRIPTION:
URL:https://navarra.ipa-spain.org/event/tiratun-desde-lizoain/
CATEGORIES:Salidas Montaña
END:VEVENT
BEGIN:VEVENT
DTSTART;VALUE=DATE:20261118
DTEND;VALUE=DATE:20261119
DTSTAMP:20260420T230756
CREATED:20260122T184713Z
LAST-MODIFIED:20260122T184713Z
UID:394019-1794960000-1795046399@navarra.ipa-spain.org
SUMMARY:Salida BTT cuenca de Pamplona
DESCRIPTION:Ruta cercana a Pamplona para intentar hacer posteriormente una comida hermanamiento con IPA Montaña.
URL:https://navarra.ipa-spain.org/event/salida-btt-cuenca-de-pamplona/
LOCATION:Pamplona\, Pamplona\, Navarra\, 31001\, Spain
CATEGORIES:Salidas BTT
END:VEVENT
BEGIN:VEVENT
DTSTART;VALUE=DATE:20261125
DTEND;VALUE=DATE:20261126
DTSTAMP:20260420T230756
CREATED:20260124T071734Z
LAST-MODIFIED:20260124T071734Z
UID:394072-1795564800-1795651199@navarra.ipa-spain.org
SUMMARY:Gaztelu y Txurregui
DESCRIPTION:
URL:https://navarra.ipa-spain.org/event/gaztelu-y-txurregui/
CATEGORIES:Salidas Montaña
END:VEVENT
BEGIN:VEVENT
DTSTART;VALUE=DATE:20261216
DTEND;VALUE=DATE:20261217
DTSTAMP:20260420T230756
CREATED:20260122T184841Z
LAST-MODIFIED:20260122T184841Z
UID:394022-1797379200-1797465599@navarra.ipa-spain.org
SUMMARY:Salida BTT Tafalla
DESCRIPTION:
URL:https://navarra.ipa-spain.org/event/salida-btt-tafalla/
LOCATION:Tafalla\, Tafalla\, Navarra\, 31300\, Spain
CATEGORIES:Salidas BTT
END:VEVENT
BEGIN:VEVENT
DTSTART;VALUE=DATE:20261216
DTEND;VALUE=DATE:20261217
DTSTAMP:20260420T230756
CREATED:20260124T071826Z
LAST-MODIFIED:20260124T071826Z
UID:394074-1797379200-1797465599@navarra.ipa-spain.org
SUMMARY:Ruta hermanamiento con IPA BTT (sin definir itinerario).
DESCRIPTION:
URL:https://navarra.ipa-spain.org/event/ruta-hermanamiento-con-ipa-btt-sin-definir-itinerario/
CATEGORIES:Salidas Montaña
END:VEVENT
END:VCALENDAR