BEGIN:VCALENDAR
VERSION:2.0
PRODID:-//I.P.A. Navarra - ECPv6.15.20//NONSGML v1.0//EN
CALSCALE:GREGORIAN
METHOD:PUBLISH
X-ORIGINAL-URL:https://navarra.ipa-spain.org
X-WR-CALDESC:Eventos para I.P.A. Navarra
REFRESH-INTERVAL;VALUE=DURATION:PT1H
X-Robots-Tag:noindex
X-PUBLISHED-TTL:PT1H
BEGIN:VTIMEZONE
TZID:UTC
BEGIN:STANDARD
TZOFFSETFROM:+0000
TZOFFSETTO:+0000
TZNAME:UTC
DTSTART:20250101T000000
END:STANDARD
END:VTIMEZONE
BEGIN:VEVENT
DTSTART;VALUE=DATE:20260415
DTEND;VALUE=DATE:20260416
DTSTAMP:20260420T212316
CREATED:20260122T181641Z
LAST-MODIFIED:20260122T181641Z
UID:393999-1776211200-1776297599@navarra.ipa-spain.org
SUMMARY:Javierada BTT
DESCRIPTION:
URL:https://navarra.ipa-spain.org/event/javierada-btt/
LOCATION:Navarra
CATEGORIES:Salidas BTT
END:VEVENT
END:VCALENDAR