BEGIN:VCALENDAR
VERSION:2.0
PRODID:-//I.P.A. Navarra - ECPv6.15.20//NONSGML v1.0//EN
CALSCALE:GREGORIAN
METHOD:PUBLISH
X-ORIGINAL-URL:https://navarra.ipa-spain.org
X-WR-CALDESC:Eventos para I.P.A. Navarra
REFRESH-INTERVAL;VALUE=DURATION:PT1H
X-Robots-Tag:noindex
X-PUBLISHED-TTL:PT1H
BEGIN:VTIMEZONE
TZID:UTC
BEGIN:STANDARD
TZOFFSETFROM:+0000
TZOFFSETTO:+0000
TZNAME:UTC
DTSTART:20250101T000000
END:STANDARD
END:VTIMEZONE
BEGIN:VEVENT
DTSTART;VALUE=DATE:20260121
DTEND;VALUE=DATE:20260122
DTSTAMP:20260421T030025
CREATED:20260114T174333Z
LAST-MODIFIED:20260122T185240Z
UID:393908-1768953600-1769039999@navarra.ipa-spain.org
SUMMARY:Salida BTT Acedo
DESCRIPTION:1ª salida del año con la colaboración de nuestro compañero EDU\, conocedor de la zona y gran anfitrión. Acabaremos comiendo como en otras ocasiones en el Camping de Acedo y haremos uso también de sus vestuarios para las duchas y cambiarnos
URL:https://navarra.ipa-spain.org/event/salida-btt-acedo/
LOCATION:Acedo\, Acedo\, Navarra\, Spain
CATEGORIES:Salidas BTT
END:VEVENT
END:VCALENDAR