BEGIN:VCALENDAR
VERSION:2.0
PRODID:-//I.P.A. Navarra - ECPv6.15.20//NONSGML v1.0//EN
CALSCALE:GREGORIAN
METHOD:PUBLISH
X-WR-CALNAME:I.P.A. Navarra
X-ORIGINAL-URL:https://navarra.ipa-spain.org
X-WR-CALDESC:Eventos para I.P.A. Navarra
REFRESH-INTERVAL;VALUE=DURATION:PT1H
X-Robots-Tag:noindex
X-PUBLISHED-TTL:PT1H
BEGIN:VTIMEZONE
TZID:UTC
BEGIN:STANDARD
TZOFFSETFROM:+0000
TZOFFSETTO:+0000
TZNAME:UTC
DTSTART:20250101T000000
END:STANDARD
END:VTIMEZONE
BEGIN:VEVENT
DTSTART;VALUE=DATE:20260620
DTEND;VALUE=DATE:20260621
DTSTAMP:20260424T103507
CREATED:20260326T001659Z
LAST-MODIFIED:20260326T001659Z
UID:394375-1781913600-1781999999@navarra.ipa-spain.org
SUMMARY:XXXIV CAMPEONATO NACIONAL DE TIRO
DESCRIPTION:Estimados amigos de IPA España\, \nLa Sección Nacional de IPA España\, en nombre de la Comunidad Territorial de IPA Castilla y León y su Agrupación de IPA Palencia convoca el \nXXXIV CAMPEONATO NACIONAL DE TIRO \nque se e celebrará durante el día 20  de Junio de 2026\, en las instalaciones de la Delegación Palentina de Tiro Olímpico\, campo de Tiro “Andrés Andérez” sito en la Carretera de Santander Km. 5.800. \nLas inscripciones deberán de efectuarse a partir del día 4 de Mayo y hasta el día 8 de Junio del 2026\, momento en que quedará cerrado el plazo de admisión de las mismas. \nCoste de la inscripción: \nSocios: 75 € Acompañante Socio 35 € (No tirador) \nNo socios: 100 € Acompañante No Socio 60 € (No tirador)
URL:https://navarra.ipa-spain.org/event/xxxiv-campeonato-nacional-de-tiro/
LOCATION:Delegación Palentina de Tiro Olímpico\, campo de Tiro “Andrés Andérez”\, Carretera de Santander Km. 5.800\, Spain
CATEGORIES:Actividades
END:VEVENT
END:VCALENDAR