BEGIN:VCALENDAR
VERSION:2.0
PRODID:-//I.P.A. Navarra - ECPv6.15.20//NONSGML v1.0//EN
CALSCALE:GREGORIAN
METHOD:PUBLISH
X-ORIGINAL-URL:https://navarra.ipa-spain.org
X-WR-CALDESC:Eventos para I.P.A. Navarra
REFRESH-INTERVAL;VALUE=DURATION:PT1H
X-Robots-Tag:noindex
X-PUBLISHED-TTL:PT1H
BEGIN:VTIMEZONE
TZID:UTC
BEGIN:STANDARD
TZOFFSETFROM:+0000
TZOFFSETTO:+0000
TZNAME:UTC
DTSTART:20250101T000000
END:STANDARD
END:VTIMEZONE
BEGIN:VEVENT
DTSTART;VALUE=DATE:20260522
DTEND;VALUE=DATE:20260526
DTSTAMP:20260423T215131
CREATED:20251229T122044Z
LAST-MODIFIED:20260116T094012Z
UID:393887-1779408000-1779753599@navarra.ipa-spain.org
SUMMARY:Juegos de la Fraternidad BCN 2026
DESCRIPTION:
URL:https://navarra.ipa-spain.org/event/juegos-de-la-fraternidad-bcn-2026/
CATEGORIES:Actividades
END:VEVENT
END:VCALENDAR